BEGIN:VCALENDAR
VERSION:2.0
PRODID:-//www.ketchikanarts.org//NONSGML kigkonsult.se iCalcreator 2.30.10/
 /
CALSCALE:GREGORIAN
METHOD:PUBLISH
UID:1a38ea1f-2f02-4793-bac6-9ffb445c2272
X-WR-CALDESC:'Fame and Shame: Beyond Seward's Folly' presented at the Tonga
 ss Historical Museum from noon to 1pm.
X-WR-RELCALID:a03bfe5166da7539da18bc0cfd9879d6
X-WR-TIMEZONE:America/Anchorage
BEGIN:VTIMEZONE
TZID:America/Anchorage
BEGIN:STANDARD
TZNAME:AKST
DTSTART:20241103T020000
TZOFFSETFROM:-0800
TZOFFSETTO:-0900
RDATE:20251102T020000
END:STANDARD
BEGIN:DAYLIGHT
TZNAME:AKDT
DTSTART:20240310T020000
TZOFFSETFROM:-0900
TZOFFSETTO:-0800
RDATE:20250309T020000
RDATE:20260308T020000
END:DAYLIGHT
END:VTIMEZONE
BEGIN:VEVENT
UID:dc1fa60c-dd3a-4f10-a794-af52f2507a9a
DTSTAMP:20260424T160314Z
DESCRIPTION:'Fame and Shame: Beyond Seward's Folly' presented at the Tongas
 s Historical Museum from noon to 1pm.
DTSTART;TZID=America/Anchorage:20250206T120000
DTEND;TZID=America/Anchorage:20250206T130000
LOCATION:Tongass Historica Museum
SUMMARY:Fame and Shame: Beyond Seward's Folly - Museum Midday
END:VEVENT
END:VCALENDAR
