BEGIN:VCALENDAR
VERSION:2.0
PRODID:-//www.ketchikanarts.org//NONSGML kigkonsult.se iCalcreator 2.30.10/
 /
CALSCALE:GREGORIAN
METHOD:PUBLISH
UID:754efbe3-10c9-4d7d-8e77-4e6ffd2a8519
X-WR-CALDESC:KCCB rehearses for the April 13\, 3pm performance!!
X-WR-RELCALID:e3e2a63a438f530c120d3710b925dec3
X-WR-TIMEZONE:America/Anchorage
BEGIN:VTIMEZONE
TZID:America/Anchorage
BEGIN:STANDARD
TZNAME:AKST
DTSTART:20241103T020000
TZOFFSETFROM:-0800
TZOFFSETTO:-0900
RDATE:20251102T020000
END:STANDARD
BEGIN:DAYLIGHT
TZNAME:AKDT
DTSTART:20240310T020000
TZOFFSETFROM:-0900
TZOFFSETTO:-0800
RDATE:20250309T020000
RDATE:20260308T020000
END:DAYLIGHT
END:VTIMEZONE
BEGIN:VEVENT
UID:9c9a823c-be2c-415e-989c-f328c552e4d4
DTSTAMP:20260424T160752Z
DESCRIPTION:KCCB rehearses for the April 13\, 3pm performance!!
DTSTART;TZID=America/Anchorage:20250203T190000
DTEND;TZID=America/Anchorage:20250203T203000
LOCATION:First Assembly Church of God
SUMMARY:Ketchikan Community Concert Band Rehearsals
END:VEVENT
END:VCALENDAR
