BEGIN:VCALENDAR
VERSION:2.0
PRODID:-//www.ketchikanarts.org//NONSGML kigkonsult.se iCalcreator 2.30.10/
 /
CALSCALE:GREGORIAN
METHOD:PUBLISH
UID:d62aae67-8d7b-422b-b3c4-89acb7d25082
X-WR-CALDESC:Bring your ukulele and have some fun playing with the group.\n
 Meets on Thursdays at 3:00pm at the Bayside Hotel!
X-WR-RELCALID:2d069912d37c7988baaa424dac891d6e
X-WR-TIMEZONE:America/Anchorage
BEGIN:VTIMEZONE
TZID:America/Anchorage
BEGIN:STANDARD
TZNAME:AKST
DTSTART:20241103T020000
TZOFFSETFROM:-0800
TZOFFSETTO:-0900
RDATE:20251102T020000
END:STANDARD
BEGIN:DAYLIGHT
TZNAME:AKDT
DTSTART:20240310T020000
TZOFFSETFROM:-0900
TZOFFSETTO:-0800
RDATE:20250309T020000
RDATE:20260308T020000
END:DAYLIGHT
END:VTIMEZONE
BEGIN:VEVENT
UID:7ff54757-d897-4507-9845-190161075cc6
DTSTAMP:20260424T170535Z
DESCRIPTION:Bring your ukulele and have some fun playing with the group.\nM
 eets on Thursdays at 3:00pm at the Bayside Hotel!
DTSTART;TZID=America/Anchorage:20250130T150000
DTEND;TZID=America/Anchorage:20250130T170000
LOCATION:Bayside Hotel Lobby
SUMMARY:The Ukelele Group
END:VEVENT
END:VCALENDAR
