BEGIN:VCALENDAR
VERSION:2.0
PRODID:-//www.ketchikanarts.org//NONSGML kigkonsult.se iCalcreator 2.30.10/
 /
CALSCALE:GREGORIAN
METHOD:PUBLISH
UID:26b4b5ac-8fe5-4520-a7dc-9aa34c5e5144
X-WR-CALDESC:KCCB rehearses for the April 13\, 3pm performance!!
X-WR-RELCALID:68fb0be76246090be5f0eb68ea376b2e
X-WR-TIMEZONE:America/Anchorage
BEGIN:VTIMEZONE
TZID:America/Anchorage
BEGIN:STANDARD
TZNAME:AKST
DTSTART:20241103T020000
TZOFFSETFROM:-0800
TZOFFSETTO:-0900
RDATE:20251102T020000
END:STANDARD
BEGIN:DAYLIGHT
TZNAME:AKDT
DTSTART:20240310T020000
TZOFFSETFROM:-0900
TZOFFSETTO:-0800
RDATE:20250309T020000
RDATE:20260308T020000
END:DAYLIGHT
END:VTIMEZONE
BEGIN:VEVENT
UID:47b17113-da8e-40ea-b6fb-2985e2db0bda
DTSTAMP:20260424T172908Z
DESCRIPTION:KCCB rehearses for the April 13\, 3pm performance!!
DTSTART;TZID=America/Anchorage:20250127T190000
DTEND;TZID=America/Anchorage:20250127T203000
LOCATION:First Assembly Church of God
SUMMARY:Ketchikan Community Concert Band Rehearsals
END:VEVENT
END:VCALENDAR
