BEGIN:VCALENDAR
VERSION:2.0
PRODID:-//www.ketchikanarts.org//NONSGML kigkonsult.se iCalcreator 2.30.10/
 /
CALSCALE:GREGORIAN
METHOD:PUBLISH
UID:e71c8ae3-bc06-4306-aafa-1417aa9e54c5
X-WR-CALDESC:Open Mic available for all types of performance.
X-WR-RELCALID:3bde59466dc5ffc18dcddcdd4e55bcb8
X-WR-TIMEZONE:America/Anchorage
BEGIN:VTIMEZONE
TZID:America/Anchorage
BEGIN:STANDARD
TZNAME:AKST
DTSTART:20241103T020000
TZOFFSETFROM:-0800
TZOFFSETTO:-0900
RDATE:20251102T020000
END:STANDARD
BEGIN:DAYLIGHT
TZNAME:AKDT
DTSTART:20240310T020000
TZOFFSETFROM:-0900
TZOFFSETTO:-0800
RDATE:20250309T020000
RDATE:20260308T020000
END:DAYLIGHT
END:VTIMEZONE
BEGIN:VEVENT
UID:5bb5c379-2f5f-4d56-9c39-e857d5f3b945
DTSTAMP:20260424T171503Z
DESCRIPTION:Open Mic available for all types of performance.
DTSTART;TZID=America/Anchorage:20250126T170000
DTEND;TZID=America/Anchorage:20250126T200000
LOCATION:3 Salmon Landing\, Ketchikan\, AK 99901 US
SUMMARY:Open Mic Fish House
END:VEVENT
END:VCALENDAR
