BEGIN:VCALENDAR
VERSION:2.0
PRODID:-//www.ketchikanarts.org//NONSGML kigkonsult.se iCalcreator 2.30.10/
 /
CALSCALE:GREGORIAN
METHOD:PUBLISH
UID:bbdc193c-e359-4dea-ad46-5f4f9cee2ae6
X-WR-CALDESC:Open Mic!
X-WR-RELCALID:357622825076cfdedb89fa73fb7872e1
X-WR-TIMEZONE:America/Anchorage
BEGIN:VTIMEZONE
TZID:America/Anchorage
BEGIN:STANDARD
TZNAME:AKST
DTSTART:20241103T020000
TZOFFSETFROM:-0800
TZOFFSETTO:-0900
RDATE:20251102T020000
END:STANDARD
BEGIN:DAYLIGHT
TZNAME:AKDT
DTSTART:20240310T020000
TZOFFSETFROM:-0900
TZOFFSETTO:-0800
RDATE:20250309T020000
RDATE:20260308T020000
END:DAYLIGHT
END:VTIMEZONE
BEGIN:VEVENT
UID:b2138113-d000-4d1f-a269-4a245baad0ea
DTSTAMP:20260424T172023Z
DESCRIPTION:Open Mic!
DTSTART;TZID=America/Anchorage:20250123T200000
DTEND;TZID=America/Anchorage:20250123T220000
LOCATION:314 Front St\, Ketchikan\, Ketchikan\, AK 99901 US
SUMMARY:Totem Bar Open Mic
END:VEVENT
END:VCALENDAR
