BEGIN:VCALENDAR
VERSION:2.0
PRODID:-//www.ketchikanarts.org//NONSGML kigkonsult.se iCalcreator 2.30.10/
 /
CALSCALE:GREGORIAN
METHOD:PUBLISH
UID:e1b947b9-e49c-4586-bbde-e6f88e6aad65
X-WR-CALDESC:Kicking off the Ketchikan Chamber Orchestra rehearsals for the
  Spring 2025 performance!!!!
X-WR-RELCALID:2c5808ba1743925cc7a660a4614e2c71
X-WR-TIMEZONE:America/Anchorage
BEGIN:VTIMEZONE
TZID:America/Anchorage
BEGIN:STANDARD
TZNAME:AKST
DTSTART:20241103T020000
TZOFFSETFROM:-0800
TZOFFSETTO:-0900
RDATE:20251102T020000
END:STANDARD
BEGIN:DAYLIGHT
TZNAME:AKDT
DTSTART:20240310T020000
TZOFFSETFROM:-0900
TZOFFSETTO:-0800
RDATE:20250309T020000
RDATE:20260308T020000
END:DAYLIGHT
END:VTIMEZONE
BEGIN:VEVENT
UID:ef21ac55-7095-4770-8e9b-37d6e5e1d61f
DTSTAMP:20260424T172909Z
DESCRIPTION:Kicking off the Ketchikan Chamber Orchestra rehearsals for the 
 Spring 2025 performance!!!!
DTSTART;TZID=America/Anchorage:20250122T180000
DTEND;TZID=America/Anchorage:20250122T200000
LOCATION:First Lutheran Church
SUMMARY:Ketchikan Chamber Orchesta Rehearsal
END:VEVENT
END:VCALENDAR
