BEGIN:VCALENDAR
VERSION:2.0
PRODID:-//www.ketchikanarts.org//NONSGML kigkonsult.se iCalcreator 2.30.10/
 /
CALSCALE:GREGORIAN
METHOD:PUBLISH
UID:3709b5fb-39a4-4b5a-9afb-74233c4c1435
X-WR-CALDESC:Ketchikan Vocalists are coached by Broadway vocal coaches to b
 ring us performances from the Great America Songbook in duets\, solos and 
 ensembles!\n\nMore information coming when we get closer to the event!
X-WR-RELCALID:018133cd8e6c63580dc0c428269d55c0
X-WR-TIMEZONE:America/Anchorage
BEGIN:VTIMEZONE
TZID:America/Anchorage
BEGIN:STANDARD
TZNAME:AKST
DTSTART:20241103T020000
TZOFFSETFROM:-0800
TZOFFSETTO:-0900
RDATE:20251102T020000
END:STANDARD
BEGIN:DAYLIGHT
TZNAME:AKDT
DTSTART:20240310T020000
TZOFFSETFROM:-0900
TZOFFSETTO:-0800
RDATE:20250309T020000
RDATE:20260308T020000
END:DAYLIGHT
END:VTIMEZONE
BEGIN:VEVENT
UID:a2544b39-9b8d-4480-94a3-d8a2df36486d
DTSTAMP:20260424T172411Z
DESCRIPTION:Ketchikan Vocalists are coached by Broadway vocal coaches to br
 ing us performances from the Great America Songbook in duets\, solos and e
 nsembles!\n\nMore information coming when we get closer to the event!
DTSTART;TZID=America/Anchorage:20250118T193000
DTEND;TZID=America/Anchorage:20250118T220000
LOCATION:Ted Ferry Civic Center
SUMMARY:Jazz and Cabaret - First City Players
END:VEVENT
END:VCALENDAR
