BEGIN:VCALENDAR
VERSION:2.0
PRODID:-//www.ketchikanarts.org//NONSGML kigkonsult.se iCalcreator 2.30.10/
 /
CALSCALE:GREGORIAN
METHOD:PUBLISH
UID:8f5a811e-ab4f-4613-b69b-e7f7a8d8db64
X-WR-CALDESC:More info to come!!!!\n\nThe Monthly Grind is a Fiscally Spons
 ored program of the Ketchikan Area Arts and Humanities Council.
X-WR-RELCALID:36f193fa6b9113990a63fde4a21dfede
X-WR-TIMEZONE:America/Anchorage
BEGIN:VTIMEZONE
TZID:America/Anchorage
BEGIN:STANDARD
TZNAME:AKST
DTSTART:20241103T020000
TZOFFSETFROM:-0800
TZOFFSETTO:-0900
RDATE:20251102T020000
END:STANDARD
BEGIN:DAYLIGHT
TZNAME:AKDT
DTSTART:20240310T020000
TZOFFSETFROM:-0900
TZOFFSETTO:-0800
RDATE:20250309T020000
RDATE:20260308T020000
END:DAYLIGHT
END:VTIMEZONE
BEGIN:VEVENT
UID:32eb4651-c80a-45d6-8f85-3bc65a46f760
DTSTAMP:20260424T171030Z
DESCRIPTION:More info to come!!!!\n\nThe Monthly Grind is a Fiscally Sponso
 red program of the Ketchikan Area Arts and Humanities Council.
DTSTART;TZID=America/Anchorage:20250111T190000
DTEND;TZID=America/Anchorage:20250111T210000
LOCATION:Saxman Tribal House
SUMMARY:Monthly Grind!!!!
END:VEVENT
END:VCALENDAR
