BEGIN:VCALENDAR
VERSION:2.0
PRODID:-//www.ketchikanarts.org//NONSGML kigkonsult.se iCalcreator 2.30.10/
 /
CALSCALE:GREGORIAN
METHOD:PUBLISH
UID:a9c987e2-d27d-4c36-96de-66349e0460d5
X-WR-CALDESC:We look forward to seeing you again and making ART happen in 2
 025!!!!!
X-WR-RELCALID:930ac2dc603e552385a21b7d01edade5
X-WR-TIMEZONE:America/Anchorage
BEGIN:VTIMEZONE
TZID:America/Anchorage
BEGIN:STANDARD
TZNAME:AKST
DTSTART:20241103T020000
TZOFFSETFROM:-0800
TZOFFSETTO:-0900
RDATE:20251102T020000
END:STANDARD
BEGIN:DAYLIGHT
TZNAME:AKDT
DTSTART:20240310T020000
TZOFFSETFROM:-0900
TZOFFSETTO:-0800
RDATE:20250309T020000
RDATE:20260308T020000
END:DAYLIGHT
END:VTIMEZONE
BEGIN:VEVENT
UID:f5668e3c-0f4e-4615-a0e6-d492434e99d2
DTSTAMP:20260424T170844Z
DESCRIPTION:We look forward to seeing you again and making ART happen in 20
 25!!!!!
DTSTART;TZID=America/Anchorage:20250102T020000
DTEND;TZID=America/Anchorage:20250102T020001
LOCATION:Main Street Gallery
SUMMARY:KAAHC REOPENS!!!
END:VEVENT
END:VCALENDAR
