BEGIN:VCALENDAR
VERSION:2.0
PRODID:-//www.ketchikanarts.org//NONSGML kigkonsult.se iCalcreator 2.30.10/
 /
CALSCALE:GREGORIAN
METHOD:PUBLISH
UID:6526113b-9cc1-42f5-9b32-abe5b5e1ad6d
X-WR-CALDESC:Open Mic!
X-WR-RELCALID:fe99b149b6e7202374d1059043784418
X-WR-TIMEZONE:America/Anchorage
BEGIN:VTIMEZONE
TZID:America/Anchorage
BEGIN:STANDARD
TZNAME:AKST
DTSTART:20241103T020000
TZOFFSETFROM:-0800
TZOFFSETTO:-0900
RDATE:20251102T020000
END:STANDARD
BEGIN:DAYLIGHT
TZNAME:AKDT
DTSTART:20240310T020000
TZOFFSETFROM:-0900
TZOFFSETTO:-0800
RDATE:20250309T020000
RDATE:20260308T020000
END:DAYLIGHT
END:VTIMEZONE
BEGIN:VEVENT
UID:27a9d646-9260-4f28-bf13-ea9d458a98e4
DTSTAMP:20260424T171902Z
DESCRIPTION:Open Mic!
DTSTART;TZID=America/Anchorage:20250102T200000
DTEND;TZID=America/Anchorage:20250102T220000
LOCATION:314 Front St\, Ketchikan\, Ketchikan\, AK 99901 US
SUMMARY:Totem Bar Open Mic
END:VEVENT
END:VCALENDAR
