BEGIN:VCALENDAR
VERSION:2.0
PRODID:-//www.ketchikanarts.org//NONSGML kigkonsult.se iCalcreator 2.30.10/
 /
CALSCALE:GREGORIAN
METHOD:PUBLISH
UID:a883e22e-1d4c-467c-ad8c-4cf08dde5b7a
X-WR-CALDESC:Open Mic available for all types of performance.
X-WR-RELCALID:a7bed267172ba578ef4ceb7ba6943249
X-WR-TIMEZONE:America/Anchorage
BEGIN:VTIMEZONE
TZID:America/Anchorage
BEGIN:STANDARD
TZNAME:AKST
DTSTART:20241103T020000
TZOFFSETFROM:-0800
TZOFFSETTO:-0900
RDATE:20251102T020000
END:STANDARD
BEGIN:DAYLIGHT
TZNAME:AKDT
DTSTART:20240310T020000
TZOFFSETFROM:-0900
TZOFFSETTO:-0800
RDATE:20250309T020000
RDATE:20260308T020000
END:DAYLIGHT
END:VTIMEZONE
BEGIN:VEVENT
UID:794adaeb-c3e3-4a54-9377-b4c3f70a5abe
DTSTAMP:20260424T184409Z
DESCRIPTION:Open Mic available for all types of performance.
DTSTART;TZID=America/Anchorage:20241229T170000
DTEND;TZID=America/Anchorage:20241229T200000
LOCATION:3 Salmon Landing\, Ketchikan\, AK 99901 US
SUMMARY:Open Mic Fish House
END:VEVENT
END:VCALENDAR
