BEGIN:VCALENDAR
VERSION:2.0
PRODID:-//www.ketchikanarts.org//NONSGML kigkonsult.se iCalcreator 2.30.10/
 /
CALSCALE:GREGORIAN
METHOD:PUBLISH
UID:b6aa9698-50e1-45aa-b5d5-5859930eda5c
X-WR-CALDESC:Ketchikan Community Concert Band rehearses every Monday beginn
 ing in September\, culminating in the Winter Performance.
X-WR-RELCALID:4f09cfa63dadf4646b4789359ad16cec
X-WR-TIMEZONE:America/Anchorage
BEGIN:VTIMEZONE
TZID:America/Anchorage
BEGIN:STANDARD
TZNAME:AKST
DTSTART:20241103T020000
TZOFFSETFROM:-0800
TZOFFSETTO:-0900
RDATE:20251102T020000
END:STANDARD
BEGIN:DAYLIGHT
TZNAME:AKDT
DTSTART:20240310T020000
TZOFFSETFROM:-0900
TZOFFSETTO:-0800
RDATE:20250309T020000
RDATE:20260308T020000
END:DAYLIGHT
END:VTIMEZONE
BEGIN:VEVENT
UID:2d0089fa-385b-4042-a0df-e31f59b2bf78
DTSTAMP:20260424T185423Z
DESCRIPTION:Ketchikan Community Concert Band rehearses every Monday beginni
 ng in September\, culminating in the Winter Performance.
DTSTART;TZID=America/Anchorage:20241222T150000
DTEND;TZID=America/Anchorage:20241222T163000
LOCATION:Kayhi Auditorium
SUMMARY:Ketchikan Community Concert Band Winter Performance
END:VEVENT
END:VCALENDAR
