BEGIN:VCALENDAR
VERSION:2.0
PRODID:-//www.ketchikanarts.org//NONSGML kigkonsult.se iCalcreator 2.30.10/
 /
CALSCALE:GREGORIAN
METHOD:PUBLISH
UID:a2b8797d-9257-4881-a685-cc5e451c0177
X-WR-CALDESC:Ratfish Wranglers Solstice/Christmas Concert & Shindig \nSatur
 day\, December 21st\, 8pm at the Creek Street Cabaret\n$5 Cover at the doo
 r
X-WR-RELCALID:927cb3d4bbc1b6ef4efeff3f7983d443
X-WR-TIMEZONE:America/Anchorage
BEGIN:VTIMEZONE
TZID:America/Anchorage
BEGIN:STANDARD
TZNAME:AKST
DTSTART:20241103T020000
TZOFFSETFROM:-0800
TZOFFSETTO:-0900
RDATE:20251102T020000
END:STANDARD
BEGIN:DAYLIGHT
TZNAME:AKDT
DTSTART:20240310T020000
TZOFFSETFROM:-0900
TZOFFSETTO:-0800
RDATE:20250309T020000
RDATE:20260308T020000
END:DAYLIGHT
END:VTIMEZONE
BEGIN:VEVENT
UID:8a4f2e68-2058-4b6c-b0d7-bbe968a615bb
DTSTAMP:20260424T184303Z
DESCRIPTION:Ratfish Wranglers Solstice/Christmas Concert & Shindig \nSaturd
 ay\, December 21st\, 8pm at the Creek Street Cabaret\n$5 Cover at the door
DTSTART;TZID=America/Anchorage:20241221T200000
DTEND;TZID=America/Anchorage:20241221T220000
LOCATION:Creek Street Cabaret
SUMMARY:Ratfish Wranglers Solstice Shindig
END:VEVENT
END:VCALENDAR
