BEGIN:VCALENDAR
VERSION:2.0
PRODID:-//www.ketchikanarts.org//NONSGML kigkonsult.se iCalcreator 2.30.10/
 /
CALSCALE:GREGORIAN
METHOD:PUBLISH
UID:23cfc61a-e575-413d-9943-620019bd7031
X-WR-CALDESC:
X-WR-RELCALID:524866fb593e689897f45ed03417ec36
X-WR-TIMEZONE:America/Anchorage
BEGIN:VTIMEZONE
TZID:America/Anchorage
BEGIN:STANDARD
TZNAME:AKST
DTSTART:20241103T020000
TZOFFSETFROM:-0800
TZOFFSETTO:-0900
RDATE:20251102T020000
END:STANDARD
BEGIN:DAYLIGHT
TZNAME:AKDT
DTSTART:20240310T020000
TZOFFSETFROM:-0900
TZOFFSETTO:-0800
RDATE:20250309T020000
RDATE:20260308T020000
END:DAYLIGHT
END:VTIMEZONE
BEGIN:VEVENT
UID:cd779ec8-0b24-4b7e-b97c-66698efefacb
DTSTAMP:20260424T184417Z
DESCRIPTION:
DTSTART;TZID=America/Anchorage:20241221T163000
DTEND;TZID=America/Anchorage:20241221T173000
LOCATION:Tongass Narrows!
SUMMARY:2024 KETCHIKAN BOAT PARADE!!!!!!!!
END:VEVENT
END:VCALENDAR
