BEGIN:VCALENDAR
VERSION:2.0
PRODID:-//www.ketchikanarts.org//NONSGML kigkonsult.se iCalcreator 2.30.10/
 /
CALSCALE:GREGORIAN
METHOD:PUBLISH
UID:21ad9b83-d590-45f9-bee9-641152eaed5a
X-WR-CALDESC:The Monthly Grind is a Fiscally Sponsored program of the Ketch
 ikan Area Arts and Humanities Council.
X-WR-RELCALID:1fd1579146160323dd97695397955482
X-WR-TIMEZONE:America/Anchorage
BEGIN:VTIMEZONE
TZID:America/Anchorage
BEGIN:STANDARD
TZNAME:AKST
DTSTART:20241103T020000
TZOFFSETFROM:-0800
TZOFFSETTO:-0900
RDATE:20251102T020000
END:STANDARD
BEGIN:DAYLIGHT
TZNAME:AKDT
DTSTART:20240310T020000
TZOFFSETFROM:-0900
TZOFFSETTO:-0800
RDATE:20250309T020000
RDATE:20260308T020000
END:DAYLIGHT
END:VTIMEZONE
BEGIN:VEVENT
UID:34152f01-925c-4026-9ff8-587ee0c070c2
DTSTAMP:20260424T184503Z
DESCRIPTION:The Monthly Grind is a Fiscally Sponsored program of the Ketchi
 kan Area Arts and Humanities Council.
DTSTART;TZID=America/Anchorage:20241221T190000
DTEND;TZID=America/Anchorage:20241221T210000
LOCATION:Saxman Tribal House
SUMMARY:Monthly Grind!!!!
END:VEVENT
END:VCALENDAR
