BEGIN:VCALENDAR
VERSION:2.0
PRODID:-//www.ketchikanarts.org//NONSGML kigkonsult.se iCalcreator 2.30.10/
 /
CALSCALE:GREGORIAN
METHOD:PUBLISH
UID:e7c8c11c-545a-4945-9529-1f03b162fa5a
X-WR-CALDESC:Tickets are free - but you still need to get one!
X-WR-RELCALID:d06d2a56bb1df2bbc0a2e98e594a00c7
X-WR-TIMEZONE:America/Anchorage
BEGIN:VTIMEZONE
TZID:America/Anchorage
BEGIN:STANDARD
TZNAME:AKST
DTSTART:20241103T020000
TZOFFSETFROM:-0800
TZOFFSETTO:-0900
RDATE:20251102T020000
END:STANDARD
BEGIN:DAYLIGHT
TZNAME:AKDT
DTSTART:20240310T020000
TZOFFSETFROM:-0900
TZOFFSETTO:-0800
RDATE:20250309T020000
RDATE:20260308T020000
END:DAYLIGHT
END:VTIMEZONE
BEGIN:VEVENT
UID:2a00fad8-de9c-4f87-827a-fc772694b605
DTSTAMP:20260424T183117Z
DESCRIPTION:Tickets are free - but you still need to get one!
DTSTART;TZID=America/Anchorage:20241215T163000
DTEND;TZID=America/Anchorage:20241215T180000
LOCATION:Clover Pass Community Church\, 105 N. Point Higgins
SUMMARY:The Singing Christmas Tree
END:VEVENT
END:VCALENDAR
