BEGIN:VCALENDAR
VERSION:2.0
PRODID:-//www.ketchikanarts.org//NONSGML kigkonsult.se iCalcreator 2.30.10/
 /
CALSCALE:GREGORIAN
METHOD:PUBLISH
UID:4e8077b2-a2a8-4d4d-8272-0bc8e482c46f
X-WR-CALDESC:Join the Ketchikan Chamber Orchestra for a delightful performa
 nce of Mozart\, Beethoven and Shostakovich!  Guest conductor\, Jill Armstr
 ong. \n\nTickets by donation at the door.
X-WR-RELCALID:f097dc6d5cbd44a749fa36175895c866
X-WR-TIMEZONE:America/Anchorage
BEGIN:VTIMEZONE
TZID:America/Anchorage
BEGIN:STANDARD
TZNAME:AKST
DTSTART:20241103T020000
TZOFFSETFROM:-0800
TZOFFSETTO:-0900
RDATE:20251102T020000
END:STANDARD
BEGIN:DAYLIGHT
TZNAME:AKDT
DTSTART:20240310T020000
TZOFFSETFROM:-0900
TZOFFSETTO:-0800
RDATE:20250309T020000
RDATE:20260308T020000
END:DAYLIGHT
END:VTIMEZONE
BEGIN:VEVENT
UID:54a59518-bc02-484a-8749-b4e23dcfb933
DTSTAMP:20260424T184236Z
DESCRIPTION:Join the Ketchikan Chamber Orchestra for a delightful performan
 ce of Mozart\, Beethoven and Shostakovich!  Guest conductor\, Jill Armstro
 ng. \n\nTickets by donation at the door.
DTSTART;TZID=America/Anchorage:20241215T150000
DTEND;TZID=America/Anchorage:20241215T163000
LOCATION:First Lutheran Church
SUMMARY:Ketchikan Chamber Orchestra Performance
END:VEVENT
END:VCALENDAR
