BEGIN:VCALENDAR
VERSION:2.0
PRODID:-//www.ketchikanarts.org//NONSGML kigkonsult.se iCalcreator 2.30.10/
 /
CALSCALE:GREGORIAN
METHOD:PUBLISH
UID:bbeb6456-a4ee-42d4-ab78-80d4b97e2792
X-WR-CALDESC:Open Mic available for all types of performance.
X-WR-RELCALID:a286cb07851beffd12431bebec879cc0
X-WR-TIMEZONE:America/Anchorage
BEGIN:VTIMEZONE
TZID:America/Anchorage
BEGIN:STANDARD
TZNAME:AKST
DTSTART:20241103T020000
TZOFFSETFROM:-0800
TZOFFSETTO:-0900
RDATE:20251102T020000
END:STANDARD
BEGIN:DAYLIGHT
TZNAME:AKDT
DTSTART:20240310T020000
TZOFFSETFROM:-0900
TZOFFSETTO:-0800
RDATE:20250309T020000
RDATE:20260308T020000
END:DAYLIGHT
END:VTIMEZONE
BEGIN:VEVENT
UID:809ec714-9c2f-4bd9-aa8b-ba6c86b974aa
DTSTAMP:20260424T185227Z
DESCRIPTION:Open Mic available for all types of performance.
DTSTART;TZID=America/Anchorage:20241215T170000
DTEND;TZID=America/Anchorage:20241215T200000
LOCATION:3 Salmon Landing\, Ketchikan\, AK 99901 US
SUMMARY:Open Mic Fish House
END:VEVENT
END:VCALENDAR
