BEGIN:VCALENDAR
VERSION:2.0
PRODID:-//www.ketchikanarts.org//NONSGML kigkonsult.se iCalcreator 2.30.10/
 /
CALSCALE:GREGORIAN
METHOD:PUBLISH
UID:bf0c502d-a5af-421a-b03b-444d886d75ec
X-WR-CALDESC:
X-WR-RELCALID:0bddc6e2395bdc7b0698d7396db4b91f
X-WR-TIMEZONE:America/Anchorage
BEGIN:VTIMEZONE
TZID:America/Anchorage
BEGIN:STANDARD
TZNAME:AKST
DTSTART:20241103T020000
TZOFFSETFROM:-0800
TZOFFSETTO:-0900
RDATE:20251102T020000
END:STANDARD
BEGIN:DAYLIGHT
TZNAME:AKDT
DTSTART:20240310T020000
TZOFFSETFROM:-0900
TZOFFSETTO:-0800
RDATE:20250309T020000
RDATE:20260308T020000
END:DAYLIGHT
END:VTIMEZONE
BEGIN:VEVENT
UID:31e1a406-d408-49fc-9647-bf5f039b6136
DTSTAMP:20260424T185832Z
DESCRIPTION:
DTSTART;TZID=America/Anchorage:20241215T100000
DTEND;TZID=America/Anchorage:20241215T160000
LOCATION:The Plaza
SUMMARY:The Plaza Holiday Bazaar
END:VEVENT
END:VCALENDAR
