BEGIN:VCALENDAR
VERSION:2.0
PRODID:-//www.ketchikanarts.org//NONSGML kigkonsult.se iCalcreator 2.30.10/
 /
CALSCALE:GREGORIAN
METHOD:PUBLISH
UID:ff27d643-705c-4615-bd23-2b6c27907343
X-WR-CALDESC:Tickets are free - but you still need to get one!
X-WR-RELCALID:962b4212d3c5e12620c46c48a451a5ad
X-WR-TIMEZONE:America/Anchorage
BEGIN:VTIMEZONE
TZID:America/Anchorage
BEGIN:STANDARD
TZNAME:AKST
DTSTART:20241103T020000
TZOFFSETFROM:-0800
TZOFFSETTO:-0900
RDATE:20251102T020000
END:STANDARD
BEGIN:DAYLIGHT
TZNAME:AKDT
DTSTART:20240310T020000
TZOFFSETFROM:-0900
TZOFFSETTO:-0800
RDATE:20250309T020000
RDATE:20260308T020000
END:DAYLIGHT
END:VTIMEZONE
BEGIN:VEVENT
UID:0a8b8263-121c-4532-a837-fd210cf6e014
DTSTAMP:20260424T183016Z
DESCRIPTION:Tickets are free - but you still need to get one!
DTSTART;TZID=America/Anchorage:20241214T190000
DTEND;TZID=America/Anchorage:20241214T203000
LOCATION:Clover Pass Community Church\, 105 N. Point Higgins
SUMMARY:The Singing Christmas Tree
END:VEVENT
END:VCALENDAR
