BEGIN:VCALENDAR
VERSION:2.0
PRODID:-//www.ketchikanarts.org//NONSGML kigkonsult.se iCalcreator 2.30.10/
 /
CALSCALE:GREGORIAN
METHOD:PUBLISH
UID:0dff78c6-209e-4fd1-8937-e946559c6210
X-WR-CALDESC:
X-WR-RELCALID:1c50c76008065957ade726b2ca853c34
X-WR-TIMEZONE:America/Anchorage
BEGIN:VTIMEZONE
TZID:America/Anchorage
BEGIN:STANDARD
TZNAME:AKST
DTSTART:20241103T020000
TZOFFSETFROM:-0800
TZOFFSETTO:-0900
RDATE:20251102T020000
END:STANDARD
BEGIN:DAYLIGHT
TZNAME:AKDT
DTSTART:20240310T020000
TZOFFSETFROM:-0900
TZOFFSETTO:-0800
RDATE:20250309T020000
RDATE:20260308T020000
END:DAYLIGHT
END:VTIMEZONE
BEGIN:VEVENT
UID:5a2ecb05-e00e-41f1-9bb2-44d3ffa92e8b
DTSTAMP:20260424T184203Z
DESCRIPTION:
DTSTART;TZID=America/Anchorage:20241214T150000
DTEND;TZID=America/Anchorage:20241214T170000
LOCATION:Ketchikan Public Library
SUMMARY:KPL - Night Before Christmas Party
END:VEVENT
END:VCALENDAR
