BEGIN:VCALENDAR
VERSION:2.0
PRODID:-//www.ketchikanarts.org//NONSGML kigkonsult.se iCalcreator 2.30.10/
 /
CALSCALE:GREGORIAN
METHOD:PUBLISH
UID:24804dfb-62c9-4520-85ab-fef5a172554b
X-WR-CALDESC:
X-WR-RELCALID:45521c337fa3103f23c7650eae071398
X-WR-TIMEZONE:America/Anchorage
BEGIN:VTIMEZONE
TZID:America/Anchorage
BEGIN:STANDARD
TZNAME:AKST
DTSTART:20241103T020000
TZOFFSETFROM:-0800
TZOFFSETTO:-0900
RDATE:20251102T020000
END:STANDARD
BEGIN:DAYLIGHT
TZNAME:AKDT
DTSTART:20240310T020000
TZOFFSETFROM:-0900
TZOFFSETTO:-0800
RDATE:20250309T020000
RDATE:20260308T020000
END:DAYLIGHT
END:VTIMEZONE
BEGIN:VEVENT
UID:43e8fb9c-c546-4199-a000-7ed729173198
DTSTAMP:20260424T183308Z
DESCRIPTION:
DTSTART;TZID=America/Anchorage:20241214T090000
DTEND;TZID=America/Anchorage:20241214T130000
LOCATION:First Lutheran Church
SUMMARY:Christmas Bazaar - First Lutheran Church
END:VEVENT
END:VCALENDAR
