BEGIN:VCALENDAR
VERSION:2.0
PRODID:-//www.ketchikanarts.org//NONSGML kigkonsult.se iCalcreator 2.30.10/
 /
CALSCALE:GREGORIAN
METHOD:PUBLISH
UID:85976aa5-474a-4227-a0fd-bdb0d79af4ee
X-WR-CALDESC:Come enjoy live music by The Free Radicals - Live Calling - Al
 l Dances are taught - and a delightful atmosphere!!!\n\nEvery second Frida
 y of the month!\n\n$5 at the door. \n\nMore info coming!
X-WR-RELCALID:ab27c15c77a5c9c73066bd46eb0211db
X-WR-TIMEZONE:America/Anchorage
BEGIN:VTIMEZONE
TZID:America/Anchorage
BEGIN:STANDARD
TZNAME:AKST
DTSTART:20241103T020000
TZOFFSETFROM:-0800
TZOFFSETTO:-0900
RDATE:20251102T020000
END:STANDARD
BEGIN:DAYLIGHT
TZNAME:AKDT
DTSTART:20240310T020000
TZOFFSETFROM:-0900
TZOFFSETTO:-0800
RDATE:20250309T020000
RDATE:20260308T020000
END:DAYLIGHT
END:VTIMEZONE
BEGIN:VEVENT
UID:e40fd248-8cf6-41f9-a4e3-9dab953289ff
DTSTAMP:20260424T184130Z
DESCRIPTION:Come enjoy live music by The Free Radicals - Live Calling - All
  Dances are taught - and a delightful atmosphere!!!\n\nEvery second Friday
  of the month!\n\n$5 at the door. \n\nMore info coming!
DTSTART;TZID=America/Anchorage:20241213T190000
DTEND;TZID=America/Anchorage:20241213T210000
LOCATION:Creek Street Cabaret
SUMMARY:SQUARE DANCING!!!
END:VEVENT
END:VCALENDAR
