BEGIN:VCALENDAR
VERSION:2.0
PRODID:-//www.ketchikanarts.org//NONSGML kigkonsult.se iCalcreator 2.30.10/
 /
CALSCALE:GREGORIAN
METHOD:PUBLISH
UID:ecb55a6a-3e4d-40b9-b05c-2dc9c7e9f252
X-WR-CALDESC:
X-WR-RELCALID:4b0649d0cfe55904728a2fee216d9337
X-WR-TIMEZONE:America/Anchorage
BEGIN:VTIMEZONE
TZID:America/Anchorage
BEGIN:STANDARD
TZNAME:AKST
DTSTART:20241103T020000
TZOFFSETFROM:-0800
TZOFFSETTO:-0900
RDATE:20251102T020000
END:STANDARD
BEGIN:DAYLIGHT
TZNAME:AKDT
DTSTART:20240310T020000
TZOFFSETFROM:-0900
TZOFFSETTO:-0800
RDATE:20250309T020000
RDATE:20260308T020000
END:DAYLIGHT
END:VTIMEZONE
BEGIN:VEVENT
UID:c5be2240-c224-4bd3-bbc2-3c36e1c5bc5e
DTSTAMP:20260424T184854Z
DESCRIPTION:
DTSTART;TZID=America/Anchorage:20241210T190000
DTEND;TZID=America/Anchorage:20241210T210000
LOCATION:Creet Street Cabaret
SUMMARY:Story Slam 'Speak of the Devil'
END:VEVENT
END:VCALENDAR
