BEGIN:VCALENDAR
VERSION:2.0
PRODID:-//www.ketchikanarts.org//NONSGML kigkonsult.se iCalcreator 2.30.10/
 /
CALSCALE:GREGORIAN
METHOD:PUBLISH
UID:f7ec600e-a389-473d-8a49-7bc0738a069a
X-WR-CALDESC:
X-WR-RELCALID:b15b790542961004a91fdea59b2828c9
X-WR-TIMEZONE:America/Anchorage
BEGIN:VTIMEZONE
TZID:America/Anchorage
BEGIN:STANDARD
TZNAME:AKST
DTSTART:20241103T020000
TZOFFSETFROM:-0800
TZOFFSETTO:-0900
RDATE:20251102T020000
END:STANDARD
BEGIN:DAYLIGHT
TZNAME:AKDT
DTSTART:20240310T020000
TZOFFSETFROM:-0900
TZOFFSETTO:-0800
RDATE:20250309T020000
RDATE:20260308T020000
END:DAYLIGHT
END:VTIMEZONE
BEGIN:VEVENT
UID:6272826c-ea5d-4563-9892-4d5bced54c53
DTSTAMP:20260424T183145Z
DESCRIPTION:
DTSTART;TZID=America/Anchorage:20241210T180000
DTEND;TZID=America/Anchorage:20241210T193000
LOCATION:Kayhi Auditorium
SUMMARY:Fawn Mountain Elementary Winter Concert
END:VEVENT
END:VCALENDAR
