BEGIN:VCALENDAR
VERSION:2.0
PRODID:-//www.ketchikanarts.org//NONSGML kigkonsult.se iCalcreator 2.30.10/
 /
CALSCALE:GREGORIAN
METHOD:PUBLISH
UID:6fc7a7f1-5511-4d56-bdc9-e1dd3946d3e8
X-WR-CALDESC:A Holiday must - the Ketchikan Theatre Ballet stage The Nutcra
 cker every year. Special Guests fill out the KTB ranks. This performance i
 s new and engaging every year!!!
X-WR-RELCALID:c08c23d6351287f2166f109e10724560
X-WR-TIMEZONE:America/Anchorage
BEGIN:VTIMEZONE
TZID:America/Anchorage
BEGIN:STANDARD
TZNAME:AKST
DTSTART:20241103T020000
TZOFFSETFROM:-0800
TZOFFSETTO:-0900
RDATE:20251102T020000
END:STANDARD
BEGIN:DAYLIGHT
TZNAME:AKDT
DTSTART:20240310T020000
TZOFFSETFROM:-0900
TZOFFSETTO:-0800
RDATE:20250309T020000
RDATE:20260308T020000
END:DAYLIGHT
END:VTIMEZONE
BEGIN:VEVENT
UID:b6965862-6d0b-4538-9f84-aea83795a25c
DTSTAMP:20260424T184534Z
DESCRIPTION:A Holiday must - the Ketchikan Theatre Ballet stage The Nutcrac
 ker every year. Special Guests fill out the KTB ranks. This performance is
  new and engaging every year!!!
DTSTART;TZID=America/Anchorage:20241207T193000
DTEND;TZID=America/Anchorage:20241207T220000
LOCATION:Kayhi Auditorium
SUMMARY:The Nutcracker - Ketchikan Theatre Ballet
END:VEVENT
END:VCALENDAR
