BEGIN:VCALENDAR
VERSION:2.0
PRODID:-//www.ketchikanarts.org//NONSGML kigkonsult.se iCalcreator 2.30.10/
 /
CALSCALE:GREGORIAN
METHOD:PUBLISH
UID:8820a93d-fb3b-4ed2-a3e9-a72db9c4c416
X-WR-CALDESC:
X-WR-RELCALID:078504fcba2cfd8a4f19365ebb7c5be1
X-WR-TIMEZONE:America/Anchorage
BEGIN:VTIMEZONE
TZID:America/Anchorage
BEGIN:STANDARD
TZNAME:AKST
DTSTART:20241103T020000
TZOFFSETFROM:-0800
TZOFFSETTO:-0900
RDATE:20251102T020000
END:STANDARD
BEGIN:DAYLIGHT
TZNAME:AKDT
DTSTART:20240310T020000
TZOFFSETFROM:-0900
TZOFFSETTO:-0800
RDATE:20250309T020000
RDATE:20260308T020000
END:DAYLIGHT
END:VTIMEZONE
BEGIN:VEVENT
UID:d1b3af6b-b148-4d8c-aa57-e6c896dffb34
DTSTAMP:20260424T184718Z
DESCRIPTION:
DTSTART;TZID=America/Anchorage:20241207T093000
DTEND;TZID=America/Anchorage:20241207T160000
LOCATION:Upstairs at 615 Stedman (KIC Education/Elders Cafe)
SUMMARY:Native Art Christmas Market
END:VEVENT
END:VCALENDAR
