BEGIN:VCALENDAR
VERSION:2.0
PRODID:-//www.ketchikanarts.org//NONSGML kigkonsult.se iCalcreator 2.30.10/
 /
CALSCALE:GREGORIAN
METHOD:PUBLISH
UID:537cd331-1a12-4898-b7ca-cd65856f36e0
X-WR-CALDESC:
X-WR-RELCALID:5833f2f6a330d8fd65eac6d4ca05c65f
X-WR-TIMEZONE:America/Anchorage
BEGIN:VTIMEZONE
TZID:America/Anchorage
BEGIN:STANDARD
TZNAME:AKST
DTSTART:20241103T020000
TZOFFSETFROM:-0800
TZOFFSETTO:-0900
RDATE:20251102T020000
END:STANDARD
BEGIN:DAYLIGHT
TZNAME:AKDT
DTSTART:20240310T020000
TZOFFSETFROM:-0900
TZOFFSETTO:-0800
RDATE:20250309T020000
RDATE:20260308T020000
END:DAYLIGHT
END:VTIMEZONE
BEGIN:VEVENT
UID:8a1572c3-1724-45f0-9238-d04b02c659c9
DTSTAMP:20260424T185552Z
DESCRIPTION:
DTSTART;TZID=America/Anchorage:20241207T100000
DTEND;TZID=America/Anchorage:20241207T180000
LOCATION:The Plaza
SUMMARY:The Plaza Holiday Bazaar
END:VEVENT
END:VCALENDAR
