BEGIN:VCALENDAR
VERSION:2.0
PRODID:-//www.ketchikanarts.org//NONSGML kigkonsult.se iCalcreator 2.30.10/
 /
CALSCALE:GREGORIAN
METHOD:PUBLISH
UID:99dafdd0-77a4-4822-9180-02226869c3d4
X-WR-CALDESC:Sing along with Greg Thomas and Diane Slagle as they present S
 ea Shanties by the sea shore.  Shanties begin at 6:00pm at the Alaska Fish
  House.
X-WR-RELCALID:316bcbe87555277920ba039ac0f8dae4
X-WR-TIMEZONE:America/Anchorage
BEGIN:VTIMEZONE
TZID:America/Anchorage
BEGIN:STANDARD
TZNAME:AKST
DTSTART:20241103T020000
TZOFFSETFROM:-0800
TZOFFSETTO:-0900
RDATE:20251102T020000
END:STANDARD
BEGIN:DAYLIGHT
TZNAME:AKDT
DTSTART:20240310T020000
TZOFFSETFROM:-0900
TZOFFSETTO:-0800
RDATE:20250309T020000
RDATE:20260308T020000
END:DAYLIGHT
END:VTIMEZONE
BEGIN:VEVENT
UID:1f33c670-a69c-4265-9a6e-2462fb2dd40f
DTSTAMP:20260424T184119Z
DESCRIPTION:Sing along with Greg Thomas and Diane Slagle as they present Se
 a Shanties by the sea shore.  Shanties begin at 6:00pm at the Alaska Fish 
 House.
DTSTART;TZID=America/Anchorage:20241205T180000
DTEND;TZID=America/Anchorage:20241205T190000
LOCATION:3 Salmon Landing\, Ketchikan\, AK 99901 US
SUMMARY:Sea Shanties
END:VEVENT
END:VCALENDAR
