BEGIN:VCALENDAR
VERSION:2.0
PRODID:-//www.ketchikanarts.org//NONSGML kigkonsult.se iCalcreator 2.30.10/
 /
CALSCALE:GREGORIAN
METHOD:PUBLISH
UID:f3dce6af-b1b9-4cc4-8f1a-e3b6e0d00935
X-WR-CALDESC:'Our Submerged Past: Submerged Archaeology in Southeast Alaska
 '\, presented by Dr. Kelly Monteleone at the Tongass Historical Museum fro
 m noon to 1pm.
X-WR-RELCALID:daedee427bf12015487b1c6e26060578
X-WR-TIMEZONE:America/Anchorage
BEGIN:VTIMEZONE
TZID:America/Anchorage
BEGIN:STANDARD
TZNAME:AKST
DTSTART:20241103T020000
TZOFFSETFROM:-0800
TZOFFSETTO:-0900
RDATE:20251102T020000
END:STANDARD
BEGIN:DAYLIGHT
TZNAME:AKDT
DTSTART:20240310T020000
TZOFFSETFROM:-0900
TZOFFSETTO:-0800
RDATE:20250309T020000
RDATE:20260308T020000
END:DAYLIGHT
END:VTIMEZONE
BEGIN:VEVENT
UID:ca6f2dfc-0c7f-443c-9719-d8bdc0745962
DTSTAMP:20260424T190135Z
DESCRIPTION:'Our Submerged Past: Submerged Archaeology in Southeast Alaska'
 \, presented by Dr. Kelly Monteleone at the Tongass Historical Museum from
  noon to 1pm.
DTSTART;TZID=America/Anchorage:20241205T120000
DTEND;TZID=America/Anchorage:20241205T130000
LOCATION:Tongass Historica Museum
SUMMARY:Our Submerged Past: Submerged Archaeology in Southeast Alaska - Mus
 eum Midday
END:VEVENT
END:VCALENDAR
