BEGIN:VCALENDAR
VERSION:2.0
PRODID:-//www.ketchikanarts.org//NONSGML kigkonsult.se iCalcreator 2.30.10/
 /
CALSCALE:GREGORIAN
METHOD:PUBLISH
UID:17e9979c-9106-43cb-9c2b-8c62ce2315fc
X-WR-CALDESC:Open Mic!
X-WR-RELCALID:1c268a8dae7ee33e0a5220db45aecca0
X-WR-TIMEZONE:America/Anchorage
BEGIN:VTIMEZONE
TZID:America/Anchorage
BEGIN:STANDARD
TZNAME:AKST
DTSTART:20241103T020000
TZOFFSETFROM:-0800
TZOFFSETTO:-0900
RDATE:20251102T020000
END:STANDARD
BEGIN:DAYLIGHT
TZNAME:AKDT
DTSTART:20240310T020000
TZOFFSETFROM:-0900
TZOFFSETTO:-0800
RDATE:20250309T020000
RDATE:20260308T020000
END:DAYLIGHT
END:VTIMEZONE
BEGIN:VEVENT
UID:0d05e46d-adc2-4095-9179-301c3b161469
DTSTAMP:20260424T184533Z
DESCRIPTION:Open Mic!
DTSTART;TZID=America/Anchorage:20241205T200000
DTEND;TZID=America/Anchorage:20241205T220000
LOCATION:314 Front St\, Ketchikan\, Ketchikan\, AK 99901 US
SUMMARY:Totem Bar Open Mic
END:VEVENT
END:VCALENDAR
