BEGIN:VCALENDAR
VERSION:2.0
PRODID:-//www.ketchikanarts.org//NONSGML kigkonsult.se iCalcreator 2.30.10/
 /
CALSCALE:GREGORIAN
METHOD:PUBLISH
UID:30ed0e51-ad2f-4723-b0eb-9d6ef6b5c236
X-WR-CALDESC:Singing rehearsal for the Singing Tree project.
X-WR-RELCALID:f5065eab9acba4f295ebdceaabac8115
X-WR-TIMEZONE:America/Anchorage
BEGIN:VTIMEZONE
TZID:America/Anchorage
BEGIN:STANDARD
TZNAME:AKST
DTSTART:20241103T020000
TZOFFSETFROM:-0800
TZOFFSETTO:-0900
RDATE:20251102T020000
END:STANDARD
BEGIN:DAYLIGHT
TZNAME:AKDT
DTSTART:20240310T020000
TZOFFSETFROM:-0900
TZOFFSETTO:-0800
RDATE:20250309T020000
RDATE:20260308T020000
END:DAYLIGHT
END:VTIMEZONE
BEGIN:VEVENT
UID:5112f5f9-e579-4ee3-8276-3ddb20f5261b
DTSTAMP:20260424T183144Z
DESCRIPTION:Singing rehearsal for the Singing Tree project.
DTSTART;TZID=America/Anchorage:20241205T190000
DTEND;TZID=America/Anchorage:20241205T200000
LOCATION:Presbyterian Church Basement
SUMMARY:Singing Tree Rehearsals
END:VEVENT
END:VCALENDAR
