BEGIN:VCALENDAR
VERSION:2.0
PRODID:-//www.ketchikanarts.org//NONSGML kigkonsult.se iCalcreator 2.30.10/
 /
CALSCALE:GREGORIAN
METHOD:PUBLISH
UID:97e1e2e9-fcf4-4cf7-9630-018dfc7e63a1
X-WR-CALDESC:SAVE THE DATE! for the Ketchikan Community Chorus Winter Conce
 rt! Always delightful and the perfect holiday event to warm the cockles of
  your heart!\n\nTickets:\nAdults $20\nSenior/Student $15\nChildren 6-12 $5
 \n5 & Under FREE
X-WR-RELCALID:8bf930bb64354d73c59090ebb099ef65
X-WR-TIMEZONE:America/Anchorage
BEGIN:VTIMEZONE
TZID:America/Anchorage
BEGIN:STANDARD
TZNAME:AKST
DTSTART:20241103T020000
TZOFFSETFROM:-0800
TZOFFSETTO:-0900
RDATE:20251102T020000
END:STANDARD
BEGIN:DAYLIGHT
TZNAME:AKDT
DTSTART:20240310T020000
TZOFFSETFROM:-0900
TZOFFSETTO:-0800
RDATE:20250309T020000
RDATE:20260308T020000
END:DAYLIGHT
END:VTIMEZONE
BEGIN:VEVENT
UID:2d5e8b11-7fb5-44f1-9db9-2e4254528a74
DTSTAMP:20260424T183017Z
DESCRIPTION:SAVE THE DATE! for the Ketchikan Community Chorus Winter Concer
 t! Always delightful and the perfect holiday event to warm the cockles of 
 your heart!\n\nTickets:\nAdults $20\nSenior/Student $15\nChildren 6-12 $5
 \n5 & Under FREE
DTSTART;TZID=America/Anchorage:20241204T190000
DTEND;TZID=America/Anchorage:20241204T210000
LOCATION:First United Methodist Church
SUMMARY:Ketchikan Community Chorus Performance!!!
END:VEVENT
END:VCALENDAR
