BEGIN:VCALENDAR
VERSION:2.0
PRODID:-//www.ketchikanarts.org//NONSGML kigkonsult.se iCalcreator 2.30.10/
 /
CALSCALE:GREGORIAN
METHOD:PUBLISH
UID:e7b162b1-d89b-4918-a430-f8269e99236f
X-WR-CALDESC:The wonderful Stephanie Patton hosts the show After Hours Alas
 ka every Wednesday from 9pm-11pm on KRBD. You can find out more informatio
 n here as she interview musicians on a weekly basis. \n\n
X-WR-RELCALID:cef05f9bade40473157a9d76ff669ae2
X-WR-TIMEZONE:America/Anchorage
BEGIN:VTIMEZONE
TZID:America/Anchorage
BEGIN:STANDARD
TZNAME:AKST
DTSTART:20241103T020000
TZOFFSETFROM:-0800
TZOFFSETTO:-0900
RDATE:20251102T020000
END:STANDARD
BEGIN:DAYLIGHT
TZNAME:AKDT
DTSTART:20240310T020000
TZOFFSETFROM:-0900
TZOFFSETTO:-0800
RDATE:20250309T020000
RDATE:20260308T020000
END:DAYLIGHT
END:VTIMEZONE
BEGIN:VEVENT
UID:13daefc2-1a06-44a7-bce5-aa4bb3fd5552
DTSTAMP:20260424T184258Z
DESCRIPTION:The wonderful Stephanie Patton hosts the show After Hours Alask
 a every Wednesday from 9pm-11pm on KRBD. You can find out more information
  here as she interview musicians on a weekly basis. \n\n
DTSTART;TZID=America/Anchorage:20241204T210000
DTEND;TZID=America/Anchorage:20241204T230000
LOCATION:
SUMMARY:After Hours Alaska
END:VEVENT
END:VCALENDAR
