BEGIN:VCALENDAR
VERSION:2.0
PRODID:-//www.ketchikanarts.org//NONSGML kigkonsult.se iCalcreator 2.30.10/
 /
CALSCALE:GREGORIAN
METHOD:PUBLISH
UID:c07002a7-1dc4-48be-986d-abaa986c5f8d
X-WR-CALDESC:The Winter Arts Faire\, presented by the Ketchikan Area Arts a
 nd Humanities Council is a delightful event\, with local artists sharing t
 heir work with the community! Get all your holiday shopping finished in on
 e location!!!
X-WR-RELCALID:0868711247fca4df3a84a80d105b8db5
X-WR-TIMEZONE:America/Anchorage
BEGIN:VTIMEZONE
TZID:America/Anchorage
BEGIN:STANDARD
TZNAME:AKST
DTSTART:20241103T020000
TZOFFSETFROM:-0800
TZOFFSETTO:-0900
RDATE:20251102T020000
END:STANDARD
BEGIN:DAYLIGHT
TZNAME:AKDT
DTSTART:20240310T020000
TZOFFSETFROM:-0900
TZOFFSETTO:-0800
RDATE:20250309T020000
RDATE:20260308T020000
END:DAYLIGHT
END:VTIMEZONE
BEGIN:VEVENT
UID:9af3da27-ea9f-430e-bc61-4127bd6dc374
DTSTAMP:20260424T200314Z
DESCRIPTION:The Winter Arts Faire\, presented by the Ketchikan Area Arts an
 d Humanities Council is a delightful event\, with local artists sharing th
 eir work with the community! Get all your holiday shopping finished in one
  location!!!
DTSTART;TZID=America/Anchorage:20241130T100000
DTEND;TZID=America/Anchorage:20241130T170000
LOCATION:TBA
SUMMARY:Winter Arts Faire
END:VEVENT
END:VCALENDAR
