BEGIN:VCALENDAR
VERSION:2.0
PRODID:-//www.ketchikanarts.org//NONSGML kigkonsult.se iCalcreator 2.30.10/
 /
CALSCALE:GREGORIAN
METHOD:PUBLISH
UID:c51ed345-8c73-4f62-a7e3-f3629e92b714
X-WR-CALDESC:The Winter Arts Faire\, presented by the Ketchikan Area Arts a
 nd Humanities Council is a delightful event\, with local artists sharing t
 heir work with the community! Get all your holiday shopping finished in on
 e location!!!
X-WR-RELCALID:984dfe22bf67491e60d74b0d1399164f
X-WR-TIMEZONE:America/Anchorage
BEGIN:VTIMEZONE
TZID:America/Anchorage
BEGIN:STANDARD
TZNAME:AKST
DTSTART:20241103T020000
TZOFFSETFROM:-0800
TZOFFSETTO:-0900
RDATE:20251102T020000
END:STANDARD
BEGIN:DAYLIGHT
TZNAME:AKDT
DTSTART:20240310T020000
TZOFFSETFROM:-0900
TZOFFSETTO:-0800
RDATE:20250309T020000
RDATE:20260308T020000
END:DAYLIGHT
END:VTIMEZONE
BEGIN:VEVENT
UID:272662a3-91be-47b1-85a3-d0f08c195f3e
DTSTAMP:20260424T211849Z
DESCRIPTION:The Winter Arts Faire\, presented by the Ketchikan Area Arts an
 d Humanities Council is a delightful event\, with local artists sharing th
 eir work with the community! Get all your holiday shopping finished in one
  location!!!
DTSTART;TZID=America/Anchorage:20241129T170000
DTEND;TZID=America/Anchorage:20241129T200000
LOCATION:TBA
SUMMARY:Winter Arts Faire
END:VEVENT
END:VCALENDAR
