BEGIN:VCALENDAR
VERSION:2.0
PRODID:-//www.ketchikanarts.org//NONSGML kigkonsult.se iCalcreator 2.30.10/
 /
CALSCALE:GREGORIAN
METHOD:PUBLISH
UID:a0a52f2a-8b9c-4e69-9088-755c7e9fca3c
X-WR-CALDESC:
X-WR-RELCALID:6d2e5b5580f73c1147693e3d58934ec3
X-WR-TIMEZONE:America/Anchorage
BEGIN:VTIMEZONE
TZID:America/Anchorage
BEGIN:STANDARD
TZNAME:AKST
DTSTART:20241103T020000
TZOFFSETFROM:-0800
TZOFFSETTO:-0900
RDATE:20251102T020000
END:STANDARD
BEGIN:DAYLIGHT
TZNAME:AKDT
DTSTART:20240310T020000
TZOFFSETFROM:-0900
TZOFFSETTO:-0800
RDATE:20250309T020000
RDATE:20260308T020000
END:DAYLIGHT
END:VTIMEZONE
BEGIN:VEVENT
UID:b0c25aac-8eed-49c2-a742-691015196d67
DTSTAMP:20260424T200509Z
DESCRIPTION:
DTSTART;TZID=America/Anchorage:20241123T193000
DTEND;TZID=America/Anchorage:20241123T213000
LOCATION:Kayhi Auditorium
SUMMARY:'Something Rotten' Final Performance - First City Players
END:VEVENT
END:VCALENDAR
