BEGIN:VCALENDAR
VERSION:2.0
PRODID:-//www.ketchikanarts.org//NONSGML kigkonsult.se iCalcreator 2.30.10/
 /
CALSCALE:GREGORIAN
METHOD:PUBLISH
UID:e2bcc8fe-f188-446e-b464-3bd21fad6a30
X-WR-CALDESC:The KCCB Board meets the 3rd Monday of the month prior to rehe
 arsal\, at the Ketchikan First Assembly of God.
X-WR-RELCALID:35fb6631a207c293143b3900381a042d
X-WR-TIMEZONE:America/Anchorage
BEGIN:VTIMEZONE
TZID:America/Anchorage
BEGIN:STANDARD
TZNAME:AKST
DTSTART:20241103T020000
TZOFFSETFROM:-0800
TZOFFSETTO:-0900
RDATE:20251102T020000
END:STANDARD
BEGIN:DAYLIGHT
TZNAME:AKDT
DTSTART:20240310T020000
TZOFFSETFROM:-0900
TZOFFSETTO:-0800
RDATE:20250309T020000
RDATE:20260308T020000
END:DAYLIGHT
END:VTIMEZONE
BEGIN:VEVENT
UID:afe9bd47-07f8-4c7a-8070-9b5f6f55ac7d
DTSTAMP:20260424T200926Z
DESCRIPTION:The KCCB Board meets the 3rd Monday of the month prior to rehea
 rsal\, at the Ketchikan First Assembly of God.
DTSTART;TZID=America/Anchorage:20241118T173000
DTEND;TZID=America/Anchorage:20241118T183000
LOCATION:3225 Fairview Ave\, Ketchikan\, AK 99001 US
SUMMARY:Ketchikan Community Concert Band Board Meeting
END:VEVENT
END:VCALENDAR
