BEGIN:VCALENDAR
VERSION:2.0
PRODID:-//www.ketchikanarts.org//NONSGML kigkonsult.se iCalcreator 2.30.10/
 /
CALSCALE:GREGORIAN
METHOD:PUBLISH
UID:01497274-7219-4a33-aafe-2a2435d58690
X-WR-CALDESC:
X-WR-RELCALID:a047f139e3ccd2eaadba80292ec0bcc6
X-WR-TIMEZONE:America/Anchorage
BEGIN:VTIMEZONE
TZID:America/Anchorage
BEGIN:STANDARD
TZNAME:AKST
DTSTART:20241103T020000
TZOFFSETFROM:-0800
TZOFFSETTO:-0900
RDATE:20251102T020000
END:STANDARD
BEGIN:DAYLIGHT
TZNAME:AKDT
DTSTART:20240310T020000
TZOFFSETFROM:-0900
TZOFFSETTO:-0800
RDATE:20250309T020000
RDATE:20260308T020000
END:DAYLIGHT
END:VTIMEZONE
BEGIN:VEVENT
UID:fe74ce52-25a1-41b1-bca2-df94c1d70eae
DTSTAMP:20260424T213157Z
DESCRIPTION:
DTSTART;TZID=America/Anchorage:20241116T193000
DTEND;TZID=America/Anchorage:20241116T213000
LOCATION:Kayhi Auditorium
SUMMARY:'Something Rotten' - First City Players
END:VEVENT
END:VCALENDAR
