BEGIN:VCALENDAR
VERSION:2.0
PRODID:-//www.ketchikanarts.org//NONSGML kigkonsult.se iCalcreator 2.30.10/
 /
CALSCALE:GREGORIAN
METHOD:PUBLISH
UID:4c39a09d-5aee-402f-9d07-1d92096e8f92
X-WR-CALDESC:The 10th Annual Holiday Bazaar will be held at Howard Valentin
 e School Gym in Coffman Cove\, AK!  \nStart your holiday shopping early!  
 There will be Fine Arts\, Crafts\, Holiday Gifts\, Culinary Products and a
  hands on craft area for all ages!  Don't forget to impress the judges in 
 the ugly sweater contest!  Plus there is a rumor that Santa is supposed to
  be visiting at noon... Please come out and join the fun!
X-WR-RELCALID:5a42f0b412735d840ac1d3727a5e10ea
X-WR-TIMEZONE:America/Anchorage
BEGIN:VTIMEZONE
TZID:America/Anchorage
BEGIN:STANDARD
TZNAME:AKST
DTSTART:20241103T020000
TZOFFSETFROM:-0800
TZOFFSETTO:-0900
RDATE:20251102T020000
END:STANDARD
BEGIN:DAYLIGHT
TZNAME:AKDT
DTSTART:20240310T020000
TZOFFSETFROM:-0900
TZOFFSETTO:-0800
RDATE:20250309T020000
RDATE:20260308T020000
END:DAYLIGHT
END:VTIMEZONE
BEGIN:VEVENT
UID:eb0b969e-be69-4ac9-83a0-b69b485169c5
DTSTAMP:20260424T200642Z
DESCRIPTION:The 10th Annual Holiday Bazaar will be held at Howard Valentine
  School Gym in Coffman Cove\, AK!  \nStart your holiday shopping early!  T
 here will be Fine Arts\, Crafts\, Holiday Gifts\, Culinary Products and a 
 hands on craft area for all ages!  Don't forget to impress the judges in t
 he ugly sweater contest!  Plus there is a rumor that Santa is supposed to 
 be visiting at noon... Please come out and join the fun!
DTSTART;TZID=America/Anchorage:20241109T100000
DTEND;TZID=America/Anchorage:20241109T150000
LOCATION:PO Box 18002\, Coffman Cove\, AK 99918 US
SUMMARY:Arts in the Cove: 10th Annual Holiday Bazaar
END:VEVENT
END:VCALENDAR
