BEGIN:VCALENDAR
VERSION:2.0
PRODID:-//www.ketchikanarts.org//NONSGML kigkonsult.se iCalcreator 2.30.10/
 /
CALSCALE:GREGORIAN
METHOD:PUBLISH
UID:5031c700-89e1-4fdc-b11f-c6a7fcd5ac68
X-WR-CALDESC:
X-WR-RELCALID:6e6f6a4401dc7610f4b614c3544889f7
X-WR-TIMEZONE:America/Anchorage
BEGIN:VTIMEZONE
TZID:America/Anchorage
BEGIN:STANDARD
TZNAME:AKST
DTSTART:20231105T020000
TZOFFSETFROM:-0800
TZOFFSETTO:-0900
RDATE:20241103T020000
RDATE:20251102T020000
END:STANDARD
BEGIN:DAYLIGHT
TZNAME:AKDT
DTSTART:20240310T020000
TZOFFSETFROM:-0900
TZOFFSETTO:-0800
RDATE:20250309T020000
RDATE:20260308T020000
END:DAYLIGHT
END:VTIMEZONE
BEGIN:VEVENT
UID:8b757e7b-9cda-4f37-b607-fc8fe7123988
DTSTAMP:20260424T200652Z
DESCRIPTION:
DTSTART;TZID=America/Anchorage:20241104T175000
DTEND;TZID=America/Anchorage:20241104T193000
LOCATION:Main Street Gallery
SUMMARY:BOOMbal Dance Hall at the Main Street Gallery
END:VEVENT
END:VCALENDAR
