BEGIN:VCALENDAR
VERSION:2.0
PRODID:-//www.ketchikanarts.org//NONSGML kigkonsult.se iCalcreator 2.30.10/
 /
CALSCALE:GREGORIAN
METHOD:PUBLISH
UID:71618cd5-372a-4188-b469-ec9a38caf6b6
X-WR-CALDESC:Brian Curtis\, musician\, fisherman\, stage set builder\, all 
 around fabulous guy\, and secret visual artist!  Makes his debut in his fi
 rst ever Gallery exhibit\; 'Heroes'!!!  This is a compilation from decades
  of oil paintings from his studio in the woods.  Opening Reception at the 
 Star Gallery on Creek Street. Friday\, November 1st\, 5-7pm.
X-WR-RELCALID:6383d339ed5ffe0f3fd16629671b5ab1
X-WR-TIMEZONE:America/Anchorage
BEGIN:VTIMEZONE
TZID:America/Anchorage
BEGIN:STANDARD
TZNAME:AKST
DTSTART:20231105T020000
TZOFFSETFROM:-0800
TZOFFSETTO:-0900
RDATE:20241103T020000
RDATE:20251102T020000
END:STANDARD
BEGIN:DAYLIGHT
TZNAME:AKDT
DTSTART:20240310T020000
TZOFFSETFROM:-0900
TZOFFSETTO:-0800
RDATE:20250309T020000
RDATE:20260308T020000
END:DAYLIGHT
END:VTIMEZONE
BEGIN:VEVENT
UID:51f466e3-da0b-41bb-a3c5-f62510949144
DTSTAMP:20260424T211725Z
DESCRIPTION:Brian Curtis\, musician\, fisherman\, stage set builder\, all a
 round fabulous guy\, and secret visual artist!  Makes his debut in his fir
 st ever Gallery exhibit\; 'Heroes'!!!  This is a compilation from decades 
 of oil paintings from his studio in the woods.  Opening Reception at the S
 tar Gallery on Creek Street. Friday\, November 1st\, 5-7pm.
DTSTART;TZID=America/Anchorage:20241101T170000
DTEND;TZID=America/Anchorage:20241101T190000
LOCATION:#5 Creek Street\, Ketchikan\, AK 99901 US
SUMMARY:Brian Curtis Exhibit: Heroes
END:VEVENT
END:VCALENDAR
