BEGIN:VCALENDAR
VERSION:2.0
PRODID:-//www.ketchikanarts.org//NONSGML kigkonsult.se iCalcreator 2.30.10/
 /
CALSCALE:GREGORIAN
METHOD:PUBLISH
UID:00f36ae6-5eb8-4c16-a8fc-5691caafc71a
X-WR-CALDESC:
X-WR-RELCALID:70242f34134139bf30293d1d0d477404
X-WR-TIMEZONE:America/Anchorage
BEGIN:VTIMEZONE
TZID:America/Anchorage
BEGIN:STANDARD
TZNAME:AKST
DTSTART:20231105T020000
TZOFFSETFROM:-0800
TZOFFSETTO:-0900
RDATE:20241103T020000
RDATE:20251102T020000
END:STANDARD
BEGIN:DAYLIGHT
TZNAME:AKDT
DTSTART:20240310T020000
TZOFFSETFROM:-0900
TZOFFSETTO:-0800
RDATE:20250309T020000
RDATE:20260308T020000
END:DAYLIGHT
END:VTIMEZONE
BEGIN:VEVENT
UID:f0063f21-1fe9-4a4d-9f75-37a6b8372f98
DTSTAMP:20260424T213643Z
DESCRIPTION:
DTSTART;TZID=America/Anchorage:20241031T020000
DTEND;TZID=America/Anchorage:20241031T020001
LOCATION:
SUMMARY:Call to Art Expires - Bunnell’s Visual Arts Exhibit and Alaska Arti
 st in Residence programs
END:VEVENT
END:VCALENDAR
