BEGIN:VCALENDAR
VERSION:2.0
PRODID:-//www.ketchikanarts.org//NONSGML kigkonsult.se iCalcreator 2.30.10/
 /
CALSCALE:GREGORIAN
METHOD:PUBLISH
UID:54ddbc3a-c567-4eb0-bfa7-3844a5daf3d3
X-WR-CALDESC:Fall rehearsals are in preparation for KCC's annual Winter con
 cert!! The Winter Concerts will be December 4th\, 2024 at 7pm\, and Decemb
 er 7th\, 2024 at 3pm
X-WR-RELCALID:b5985105c75b73d80b293f9c81a3ac1f
X-WR-TIMEZONE:America/Anchorage
BEGIN:VTIMEZONE
TZID:America/Anchorage
BEGIN:STANDARD
TZNAME:AKST
DTSTART:20231105T020000
TZOFFSETFROM:-0800
TZOFFSETTO:-0900
RDATE:20241103T020000
RDATE:20251102T020000
END:STANDARD
BEGIN:DAYLIGHT
TZNAME:AKDT
DTSTART:20240310T020000
TZOFFSETFROM:-0900
TZOFFSETTO:-0800
RDATE:20250309T020000
RDATE:20260308T020000
END:DAYLIGHT
END:VTIMEZONE
BEGIN:VEVENT
UID:81152c26-7e90-429e-96c7-67b654957bf4
DTSTAMP:20260424T213510Z
DESCRIPTION:Fall rehearsals are in preparation for KCC's annual Winter conc
 ert!! The Winter Concerts will be December 4th\, 2024 at 7pm\, and Decembe
 r 7th\, 2024 at 3pm
DTSTART;TZID=America/Anchorage:20241029T190000
DTEND;TZID=America/Anchorage:20241029T203000
LOCATION:400 Main Street\, Ketchikan\, AL 99901 US
SUMMARY:Ketchikan Community Chorus Rehearsal
END:VEVENT
END:VCALENDAR
