BEGIN:VCALENDAR
VERSION:2.0
PRODID:-//www.ketchikanarts.org//NONSGML kigkonsult.se iCalcreator 2.30.10/
 /
CALSCALE:GREGORIAN
METHOD:PUBLISH
UID:24874dce-ed44-480d-bb31-cd0eb54c8c7a
X-WR-CALDESC:Singing rehearsal for the Singing Tree project.
X-WR-RELCALID:9a166c61e1a9f5ca34278ac36d43c48d
X-WR-TIMEZONE:America/Anchorage
BEGIN:VTIMEZONE
TZID:America/Anchorage
BEGIN:STANDARD
TZNAME:AKST
DTSTART:20231105T020000
TZOFFSETFROM:-0800
TZOFFSETTO:-0900
RDATE:20241103T020000
RDATE:20251102T020000
END:STANDARD
BEGIN:DAYLIGHT
TZNAME:AKDT
DTSTART:20240310T020000
TZOFFSETFROM:-0900
TZOFFSETTO:-0800
RDATE:20250309T020000
RDATE:20260308T020000
END:DAYLIGHT
END:VTIMEZONE
BEGIN:VEVENT
UID:e580b8d1-467e-486c-bc7d-4447d21e1d02
DTSTAMP:20260424T212630Z
DESCRIPTION:Singing rehearsal for the Singing Tree project.
DTSTART;TZID=America/Anchorage:20241027T150000
DTEND;TZID=America/Anchorage:20241027T160000
LOCATION:Clover Pass Community Church Basement
SUMMARY:Singing Tree Rehearsals
END:VEVENT
END:VCALENDAR
