BEGIN:VCALENDAR
VERSION:2.0
PRODID:-//www.ketchikanarts.org//NONSGML kigkonsult.se iCalcreator 2.30.10/
 /
CALSCALE:GREGORIAN
METHOD:PUBLISH
UID:186fa4e1-c7bf-405d-ab0a-99b204b8c5b0
X-WR-CALDESC:Help raise funds for Houghtaling Music Program and the Kayhi D
 rama Kings!!\n\nTickets $10/ kids  $20/Adults
X-WR-RELCALID:52439b2bb55cd67a67e79fd105c6f9c4
X-WR-TIMEZONE:America/Anchorage
BEGIN:VTIMEZONE
TZID:America/Anchorage
BEGIN:STANDARD
TZNAME:AKST
DTSTART:20231105T020000
TZOFFSETFROM:-0800
TZOFFSETTO:-0900
RDATE:20241103T020000
RDATE:20251102T020000
END:STANDARD
BEGIN:DAYLIGHT
TZNAME:AKDT
DTSTART:20240310T020000
TZOFFSETFROM:-0900
TZOFFSETTO:-0800
RDATE:20250309T020000
RDATE:20260308T020000
END:DAYLIGHT
END:VTIMEZONE
BEGIN:VEVENT
UID:94d94ffa-8470-41b4-bb11-fa2b36f0597a
DTSTAMP:20260424T213253Z
DESCRIPTION:Help raise funds for Houghtaling Music Program and the Kayhi Dr
 ama Kings!!\n\nTickets $10/ kids  $20/Adults
DTSTART;TZID=America/Anchorage:20241026T190000
DTEND;TZID=America/Anchorage:20241026T230000
LOCATION:George Inlet Cannery
SUMMARY:'Fright Night' at the Cannery!!
END:VEVENT
END:VCALENDAR
