BEGIN:VCALENDAR
VERSION:2.0
PRODID:-//www.ketchikanarts.org//NONSGML kigkonsult.se iCalcreator 2.30.10/
 /
CALSCALE:GREGORIAN
METHOD:PUBLISH
UID:04738e8d-a2ea-497e-a4f5-d8c0160947a1
X-WR-CALDESC:Entrance Fee: Donation Based: All proceeds support American Le
 gion
X-WR-RELCALID:fa63a584103ba721891ded442b365c71
X-WR-TIMEZONE:America/Anchorage
BEGIN:VTIMEZONE
TZID:America/Anchorage
BEGIN:STANDARD
TZNAME:AKST
DTSTART:20231105T020000
TZOFFSETFROM:-0800
TZOFFSETTO:-0900
RDATE:20241103T020000
RDATE:20251102T020000
END:STANDARD
BEGIN:DAYLIGHT
TZNAME:AKDT
DTSTART:20240310T020000
TZOFFSETFROM:-0900
TZOFFSETTO:-0800
RDATE:20250309T020000
RDATE:20260308T020000
END:DAYLIGHT
END:VTIMEZONE
BEGIN:VEVENT
UID:7b4c1f1e-72a7-4849-a15a-75c0f5dd058c
DTSTAMP:20260424T231157Z
DESCRIPTION:Entrance Fee: Donation Based: All proceeds support American Leg
 ion
DTSTART;TZID=America/Anchorage:20241025T170000
DTEND;TZID=America/Anchorage:20241025T210000
LOCATION:Coast Guard Base Gymnasium
SUMMARY:Nightmare Medley: A Frightening Night of Fear - US Coast Guard
END:VEVENT
END:VCALENDAR
