BEGIN:VCALENDAR
VERSION:2.0
PRODID:-//www.ketchikanarts.org//NONSGML kigkonsult.se iCalcreator 2.30.10/
 /
CALSCALE:GREGORIAN
METHOD:PUBLISH
UID:9c22fc0f-777f-4428-b69c-57266b9c3bec
X-WR-CALDESC:
X-WR-RELCALID:cf3b3e56bdd7125042566ff9401588ad
X-WR-TIMEZONE:America/Anchorage
BEGIN:VTIMEZONE
TZID:America/Anchorage
BEGIN:STANDARD
TZNAME:AKST
DTSTART:20231105T020000
TZOFFSETFROM:-0800
TZOFFSETTO:-0900
RDATE:20241103T020000
RDATE:20251102T020000
END:STANDARD
BEGIN:DAYLIGHT
TZNAME:AKDT
DTSTART:20240310T020000
TZOFFSETFROM:-0900
TZOFFSETTO:-0800
RDATE:20250309T020000
RDATE:20260308T020000
END:DAYLIGHT
END:VTIMEZONE
BEGIN:VEVENT
UID:dd05a5de-a7e7-49b6-a1ba-968f944e2bb3
DTSTAMP:20260424T213719Z
DESCRIPTION:
DTSTART;TZID=America/Anchorage:20241025T190000
DTEND;TZID=America/Anchorage:20241025T203000
LOCATION:Kayhi Auditorium
SUMMARY:Harry Potter and The Cursed Child - presented by Kayhi Drama Kings
END:VEVENT
END:VCALENDAR
