BEGIN:VCALENDAR
VERSION:2.0
PRODID:-//www.ketchikanarts.org//NONSGML kigkonsult.se iCalcreator 2.30.10/
 /
CALSCALE:GREGORIAN
METHOD:PUBLISH
UID:031b7975-890d-4c12-a400-2c25fc704727
X-WR-CALDESC:
X-WR-RELCALID:269f6ceda0f1ad5fab2353c76334e7c4
X-WR-TIMEZONE:America/Anchorage
BEGIN:VTIMEZONE
TZID:America/Anchorage
BEGIN:STANDARD
TZNAME:AKST
DTSTART:20231105T020000
TZOFFSETFROM:-0800
TZOFFSETTO:-0900
RDATE:20241103T020000
RDATE:20251102T020000
END:STANDARD
BEGIN:DAYLIGHT
TZNAME:AKDT
DTSTART:20240310T020000
TZOFFSETFROM:-0900
TZOFFSETTO:-0800
RDATE:20250309T020000
RDATE:20260308T020000
END:DAYLIGHT
END:VTIMEZONE
BEGIN:VEVENT
UID:61357970-5223-4148-b9d6-c5441a171e84
DTSTAMP:20260424T223507Z
DESCRIPTION:
DTSTART;TZID=America/Anchorage:20241024T180000
DTEND;TZID=America/Anchorage:20241024T193000
LOCATION:UAS Ketchikan Campus Library
SUMMARY:Ask UAS - Algal Bloom
END:VEVENT
END:VCALENDAR
